BEGIN:VCALENDAR
VERSION:2.0
PRODID:-//wp-events-plugin.com//7.2.3.1//EN
TZID:Europe/Berlin
X-WR-TIMEZONE:Europe/Berlin
BEGIN:VEVENT
UID:1176@hebammenpraxis-am-neumarkt.de
DTSTART;TZID=Europe/Berlin:20260627T093000
DTEND;TZID=Europe/Berlin:20260627T170000
DTSTAMP:20260107T082431Z
URL:https://hebammenpraxis-am-neumarkt.de/events/1-hilfe-kurs-vor-ort-6/
SUMMARY:1. Hilfe-Kurs vor Ort
DESCRIPTION:Nehmt teil an einem spannenden\, wissenswerten und informativen
  Tag.
ATTACH;FMTTYPE=image/jpeg:https://hebammenpraxis-am-neumarkt.de/wp-content
 /uploads/1.-Hife.png
CATEGORIES:Erste Hilfe Kurs,Kurse
LOCATION:Hebammenpraxis am Neumarkt\, Neumarkt 6\, Arnsberg\, NRW\, 59821 \
 , Sauerland\, Deutschland
X-APPLE-STRUCTURED-LOCATION;VALUE=URI;X-ADDRESS=Neumarkt 6\, Arnsberg\, NRW
 \, 59821 \, Sauerland\, Deutschland;X-APPLE-RADIUS=100;X-TITLE=Hebammenpra
 xis am Neumarkt:geo:0,0
END:VEVENT
BEGIN:VTIMEZONE
TZID:Europe/Berlin
X-LIC-LOCATION:Europe/Berlin
BEGIN:DAYLIGHT
DTSTART:20260329T030000
TZOFFSETFROM:+0100
TZOFFSETTO:+0200
TZNAME:CEST
END:DAYLIGHT
END:VTIMEZONE
END:VCALENDAR